Workbook

Sheet Как вести
A1: Таблица родительского комитета — касса класса или группы детского сада
A2: Бесплатный шаблон от «Классной кассы» · klassnayakassa.ru
A4: Как вести (5 минут в неделю)
A5: 1. «Дети и взносы»: впишите фамилии и имена (можно вставить список из чата). Жёлтые ячейки — для ввода.
A6: 2. В строке 2 над каждым сбором — название, в строке 3 — сумма с человека. «Начислено» подставится само.
A7: Ребёнок не участвует (экскурсия не для всех) — впишите 0 в его «Начислено».
A8: 3. Сдали деньги — впишите сумму в «Сдано». Долг посчитается сам, должники подсветятся.
A9: 4. «Траты»: дата, что купили, сумма, есть ли чек. Чек сфотографируйте в тот же день.
A10: 5. «Итоги» считаются сами: собрано, потрачено, остаток, сколько должников. Это и есть отчёт для чата.
A11: 6. «Дни рождения»: дети и воспитатели/учителя, месяц и день, сумма подарка — видно, сколько нужно по месяцам.
A13: Детский сад или школа?
A14: Детский сад: в «Днях рождения» добавьте воспитателей, помощника воспитателя, музыкального руководителя.
... A22: напоминания уходят лично, отчёт родителям — по ссылке. 14 дней бесплатно: https://klassnayakassa.ru

Sheet Дети и взносы
A1: Дети и взносы | D1: Жёлтое — вписываете вы, остальное считается само
A2: Сбор → | D2: Взнос на полугодие | G2: Новый год | J2: 23 февраля / 8 марта | M2: Сбор 4 | P2: Сбор 5
A3: С человека, ₽ → | D3: 3000 | G3: 1000 | J3: 500
A4: № | B4: Фамилия | C4: Имя | D4: Начислено | E4: Сдано | F4: Долг | G4: Начислено | H4: Сдано | I4: Долг | J4: Начислено | K4: Сдано | L4: Долг | M4: Начислено | N4: Сдано | O4: Долг | P4: Начислено | Q4: Сдано | R4: Долг | S4: Всего долг | T4: Всего сдано
A5: 1 | B5: Иванова | C5: Маша | D5: =IF(OR($B5="",D$3=""),"",D$3) | E5: 3000 | F5: =IF(OR($B5="",D5=""),"",MAX(D5-N(E5),0)) | G5: =IF(OR($B5="",G$3=""),"",G$3) | H5: 1000 | I5: =IF(OR($B5="",G5=""),"",MAX(G5-N(H5),0)) | J5: =IF(OR($B5="",J$3=""),"",J$3) | L5: =IF(OR($B5="",J5=""),"",MAX(J5-N(K5),0)) | M5: =IF(OR($B5="",M$3=""),"",M$3) | O5: =IF(OR($B5="",M5=""),"",MAX(M5-N(N5),0)) | P5: =IF(OR($B5="",P$3=""),"",P$3) | R5: =IF(OR($B5="",P5=""),"",MAX(P5-N(Q5),0)) | S5: =IF($B5="","",N(F5)+N(I5)+N(L5)+N(O5)+N(R5)) | T5: =IF($B5="","",N(E5)+N(H5)+N(K5)+N(N5)+N(Q5))
A6: 2 | B6: Петров | C6: Саша | D6: =IF(OR($B6="",D$3=""),"",D$3) | E6: 3000 | F6: =IF(OR($B6="",D6=""),"",MAX(D6-N(E6),0)) | G6: =IF(OR($B6="",G$3=""),"",G$3) | H6: 0 | I6: =IF(OR($B6="",G6=""),"",MAX(G6-N(H6),0)) | J6: =IF(OR($B6="",J$3=""),"",J$3) | L6: =IF(OR($B6="",J6=""),"",MAX(J6-N(K6),0)) | M6: =IF(OR($B6="",M$3=""),"",M$3) | O6: =IF(OR($B6="",M6=""),"",MAX(M6-N(N6),0)) | P6: =IF(OR($B6="",P$3=""),"",P$3) | R6: =IF(OR($B6="",P6=""),"",MAX(P6-N(Q6),0)) | S6: =IF($B6="","",N(F6)+N(I6)+N(L6)+N(O6)+N(R6)) | T6: =IF($B6="","",N(E6)+N(H6)+N(K6)+N(N6)+N(Q6))
A7: 3 | B7: Сидорова | C7: Лиза | D7: =IF(OR($B7="",D$3=""),"",D$3) | E7: 1500 | F7: =IF(OR($B7="",D7=""),"",MAX(D7-N(E7),0)) | G7: =IF(OR($B7="",G$3=""),"",G$3) | H7: 1000 | I7: =IF(OR($B7="",G7=""),"",MAX(G7-N(H7),0)) | J7: =IF(OR($B7="",J$3=""),"",J$3) | L7: =IF(OR($B7="",J7=""),"",MAX(J7-N(K7),0)) | M7: =IF(OR($B7="",M$3=""),"",M$3) | O7: =IF(OR($B7="",M7=""),"",MAX(M7-N(N7),0)) | P7: =IF(OR($B7="",P$3=""),"",P$3) | R7: =IF(OR($B7="",P7=""),"",MAX(P7-N(Q7),0)) | S7: =IF($B7="","",N(F7)+N(I7)+N(L7)+N(O7)+N(R7)) | T7: =IF($B7="","",N(E7)+N(H7)+N(K7)+N(N7)+N(Q7))
A8: 4 | D8: =IF(OR($B8="",D$3=""),"",D$3) | F8: =IF(OR($B8="",D8=""),"",MAX(D8-N(E8),0)) | G8: =IF(OR($B8="",G$3=""),"",G$3) | I8: =IF(OR($B8="",G8=""),"",MAX(G8-N(H8),0)) | J8: =IF(OR($B8="",J$3=""),"",J$3) | L8: =IF(OR($B8="",J8=""),"",MAX(J8-N(K8),0)) | M8: =IF(OR($B8="",M$3=""),"",M$3) | O8: =IF(OR($B8="",M8=""),"",MAX(M8-N(N8),0)) | P8: =IF(OR($B8="",P$3=""),"",P$3) | R8: =IF(OR($B8="",P8=""),"",MAX(P8-N(Q8),0)) | S8: =IF($B8="","",N(F8)+N(I8)+N(L8)+N(O8)+N(R8)) | T8: =IF($B8="","",N(E8)+N(H8)+N(K8)+N(N8)+N(Q8))
A9: 5 | D9: =IF(OR($B9="",D$3=""),"",D$3) | F9: =IF(OR($B9="",D9=""),"",MAX(D9-N(E9),0)) | G9: =IF(OR($B9="",G$3=""),"",G$3) | I9: =IF(OR($B9="",G9=""),"",MAX(G9-N(H9),0)) | J9: =IF(OR($B9="",J$3=""),"",J$3) | L9: =IF(OR($B9="",J9=""),"",MAX(J9-N(K9),0)) | M9: =IF(OR($B9="",M$3=""),"",M$3) | O9: =IF(OR($B9="",M9=""),"",MAX(M9-N(N9),0)) | P9: =IF(OR($B9="",P$3=""),"",P$3) | R9: =IF(OR($B9="",P9=""),"",MAX(P9-N(Q9),0)) | S9: =IF($B9="","",N(F9)+N(I9)+N(L9)+N(O9)+N(R9)) | T9: =IF($B9="","",N(E9)+N(H9)+N(K9)+N(N9)+N(Q9))
A10: 6 | D10: =IF(OR($B10="",D$3=""),"",D$3) | F10: =IF(OR($B10="",D10=""),"",MAX(D10-N(E10),0)) | G10: =IF(OR($B10="",G$3=""),"",G$3) | I10: =IF(OR($B10="",G10=""),"",MAX(G10-N(H10),0)) | J10: =IF(OR($B10="",J$3=""),"",J$3) | L10: =IF(OR($B10="",J10=""),"",MAX(J10-N(K10),0)) | M10: =IF(OR($B10="",M$3=""),"",M$3) | O10: =IF(OR($B10="",M10=""),"",MAX(M10-N(N10),0)) | P10: =IF(OR($B10="",P$3=""),"",P$3) | R10: =IF(OR($B10="",P10=""),"",MAX(P10-N(Q10),0)) | S10: =IF($B10="","",N(F10)+N(I10)+N(L10)+N(O10)+N(R10)) | T10: =IF($B10="","",N(E10)+N(H10)+N(K10)+N(N10)+N(Q10))
A11: 7 | D11: =IF(OR($B11="",D$3=""),"",D$3) | F11: =IF(OR($B11="",D11=""),"",MAX(D11-N(E11),0)) | G11: =IF(OR($B11="",G$3=""),"",G$3) | I11: =IF(OR($B11="",G11=""),"",MAX(G11-N(H11),0)) | J11: =IF(OR($B11="",J$3=""),"",J$3) | L11: =IF(OR($B11="",J11=""),"",MAX(J11-N(K11),0)) | M11: =IF(OR($B11="",M$3=""),"",M$3) | O11: =IF(OR($B11="",M11=""),"",MAX(M11-N(N11),0)) | P11: =IF(OR($B11="",P$3=""),"",P$3) | R11: =IF(OR($B11="",P11=""),"",MAX(P11-N(Q11),0)) | S11: =IF($B11="","",N(F11)+N(I11)+N(L11)+N(O11)+N(R11)) | T11: =IF($B11="","",N(E11)+N(H11)+N(K11)+N(N11)+N(Q11))
A12: 8 | D12: =IF(OR($B12="",D$3=""),"",D$3) | F12: =IF(OR($B12="",D12=""),"",MAX(D12-N(E12),0)) | G12: =IF(OR($B12="",G$3=""),"",G$3) | I12: =IF(OR($B12="",G12=""),"",MAX(G12-N(H12),0)) | J12: =IF(OR($B12="",J$3=""),"",J$3) | L12: =IF(OR($B12="",J12=""),"",MAX(J12-N(K12),0)) | M12: =IF(OR($B12="",M$3=""),"",M$3) | O12: =IF(OR($B12="",M12=""),"",MAX(M12-N(N12),0)) | P12: =IF(OR($B12="",P$3=""),"",P$3) | R12: =IF(OR($B12="",P12=""),"",MAX(P12-N(Q12),0)) | S12: =IF($B12="","",N(F12)+N(I12)+N(L12)+N(O12)+N(R12)) | T12: =IF($B12="","",N(E12)+N(H12)+N(K12)+N(N12)+N(Q12))
A13: 9 | D13: =IF(OR($B13="",D$3=""),"",D$3) | F13: =IF(OR($B13="",D13=""),"",MAX(D13-N(E13),0)) | G13: =IF(OR($B13="",G$3=""),"",G$3) | I13: =IF(OR($B13="",G13=""),"",MAX(G13-N(H13),0)) | J13: =IF(OR($B13="",J$3=""),"",J$3) | L13: =IF(OR($B13="",J13=""),"",MAX(J13-N(K13),0)) | M13: =IF(OR($B13="",M$3=""),"",M$3) | O13: =IF(OR($B13="",M13=""),"",MAX(M13-N(N13),0)) | P13: =IF(OR($B13="",P$3=""),"",P$3) | R13: =IF(OR($B13="",P13=""),"",MAX(P13-N(Q13),0)) | S13: =IF($B13="","",N(F13)+N(I13)+N(L13)+N(O13)+N(R13)) | T13: =IF($B13="","",N(E13)+N(H13)+N(K13)+N(N13)+N(Q13))
A14: 10 | D14: =IF(OR($B14="",D$3=""),"",D$3) | F14: =IF(OR($B14="",D14=""),"",MAX(D14-N(E14),0)) | G14: =IF(OR($B14="",G$3=""),"",G$3) | I14: =IF(OR($B14="",G14=""),"",MAX(G14-N(H14),0)) | J14: =IF(OR($B14="",J$3=""),"",J$3) | L14: =IF(OR($B14="",J14=""),"",MAX(J14-N(K14),0)) | M14: =IF(OR($B14="",M$3=""),"",M$3) | O14: =IF(OR($B14="",M14=""),"",MAX(M14-N(N14),0)) | P14: =IF(OR($B14="",P$3=""),"",P$3) | R14: =IF(OR($B14="",P14=""),"",MAX(P14-N(Q14),0)) | S14: =IF($B14="","",N(F14)+N(I14)+N(L14)+N(O14)+N(R14)) | T14: =IF($B14="","",N(E14)+N(H14)+N(K14)+N(N14)+N(Q14))
A15: 11 | D15: =IF(OR($B15="",D$3=""),"",D$3) | F15: =IF(OR($B15="",D15=""),"",MAX(D15-N(E15),0)) | G15: =IF(OR($B15="",G$3=""),"",G$3) | I15: =IF(OR($B15="",G15=""),"",MAX(G15-N(H15),0)) | J15: =IF(OR($B15="",J$3=""),"",J$3) | L15: =IF(OR($B15="",J15=""),"",MAX(J15-N(K15),0)) | M15: =IF(OR($B15="",M$3=""),"",M$3) | O15: =IF(OR($B15="",M15=""),"",MAX(M15-N(N15),0)) | P15: =IF(OR($B15="",P$3=""),"",P$3) | R15: =IF(OR($B15="",P15=""),"",MAX(P15-N(Q15),0)) | S15: =IF($B15="","",N(F15)+N(I15)+N(L15)+N(O15)+N(R15)) | T15: =IF($B15="","",N(E15)+N(H15)+N(K15)+N(N15)+N(Q15))
A16: 12 | D16: =IF(OR($B16="",D$3=""),"",D$3) | F16: =IF(OR($B16="",D16=""),"",MAX(D16-N(E16),0)) | G16: =IF(OR($B16="",G$3=""),"",G$3) | I16: =IF(OR($B16="",G16=""),"",MAX(G16-N(H16),0)) | J16: =IF(OR($B16="",J$3=""),"",J$3) | L16: =IF(OR($B16="",J16=""),"",MAX(J16-N(K16),0)) | M16: =IF(OR($B16="",M$3=""),"",M$3) | O16: =IF(OR($B16="",M16=""),"",MAX(M16-N(N16),0)) | P16: =IF(OR($B16="",P$3=""),"",P$3) | R16: =IF(OR($B16="",P16=""),"",MAX(P16-N(Q16),0)) | S16: =IF($B16="","",N(F16)+N(I16)+N(L16)+N(O16)+N(R16)) | T16: =IF($B16="","",N(E16)+N(H16)+N(K16)+N(N16)+N(Q16))
A17: 13 | D17: =IF(OR($B17="",D$3=""),"",D$3) | F17: =IF(OR($B17="",D17=""),"",MAX(D17-N(E17),0)) | G17: =IF(OR($B17="",G$3=""),"",G$3) | I17: =IF(OR($B17="",G17=""),"",MAX(G17-N(H17),0)) | J17: =IF(OR($B17="",J$3=""),"",J$3) | L17: =IF(OR($B17="",J17=""),"",MAX(J17-N(K17),0)) | M17: =IF(OR($B17="",M$3=""),"",M$3) | O17: =IF(OR($B17="",M17=""),"",MAX(M17-N(N17),0)) | P17: =IF(OR($B17="",P$3=""),"",P$3) | R17: =IF(OR($B17="",P17=""),"",MAX(P17-N(Q17),0)) | S17: =IF($B17="","",N(F17)+N(I17)+N(L17)+N(O17)+N(R17)) | T17: =IF($B17="","",N(E17)+N(H17)+N(K17)+N(N17)+N(Q17))
A18: 14 | D18: =IF(OR($B18="",D$3=""),"",D$3) | F18: =IF(OR($B18="",D18=""),"",MAX(D18-N(E18),0)) | G18: =IF(OR($B18="",G$3=""),"",G$3) | I18: =IF(OR($B18="",G18=""),"",MAX(G18-N(H18),0)) | J18: =IF(OR($B18="",J$3=""),"",J$3) | L18: =IF(OR($B18="",J18=""),"",MAX(J18-N(K18),0)) | M18: =IF(OR($B18="",M$3=""),"",M$3) | O18: =IF(OR($B18="",M18=""),"",MAX(M18-N(N18),0)) | P18: =IF(OR($B18="",P$3=""),"",P$3) | R18: =IF(OR($B18="",P18=""),"",MAX(P18-N(Q18),0)) | S18: =IF($B18="","",N(F18)+N(I18)+N(L18)+N(O18)+N(R18)) | T18: =IF($B18="","",N(E18)+N(H18)+N(K18)+N(N18)+N(Q18))
A19: 15 | D19: =IF(OR($B19="",D$3=""),"",D$3) | F19: =IF(OR($B19="",D19=""),"",MAX(D19-N(E19),0)) | G19: =IF(OR($B19="",G$3=""),"",G$3) | I19: =IF(OR($B19="",G19=""),"",MAX(G19-N(H19),0)) | J19: =IF(OR($B19="",J$3=""),"",J$3) | L19: =IF(OR($B19="",J19=""),"",MAX(J19-N(K19),0)) | M19: =IF(OR($B19="",M$3=""),"",M$3) | O19: =IF(OR($B19="",M19=""),"",MAX(M19-N(N19),0)) | P19: =IF(OR($B19="",P$3=""),"",P$3) | R19: =IF(OR($B19="",P19=""),"",MAX(P19-N(Q19),0)) | S19: =IF($B19="","",N(F19)+N(I19)+N(L19)+N(O19)+N(R19)) | T19: =IF($B19="","",N(E19)+N(H19)+N(K19)+N(N19)+N(Q19))
... A44: 40 | D44: =IF(OR($B44="",D$3=""),"",D$3) | F44: =IF(OR($B44="",D44=""),"",MAX(D44-N(E44),0)) | G44: =IF(OR($B44="",G$3=""),"",G$3) | I44: =IF(OR($B44="",G44=""),"",MAX(G44-N(H44),0)) | J44: =IF(OR($B44="",J$3=""),"",J$3) | L44: =IF(OR($B44="",J44=""),"",MAX(J44-N(K44),0)) | M44: =IF(OR($B44="",M$3=""),"",M$3) | O44: =IF(OR($B44="",M44=""),"",MAX(M44-N(N44),0)) | P44: =IF(OR($B44="",P$3=""),"",P$3) | R44: =IF(OR($B44="",P44=""),"",MAX(P44-N(Q44),0)) | S44: =IF($B44="","",N(F44)+N(I44)+N(L44)+N(O44)+N(R44)) | T44: =IF($B44="","",N(E44)+N(H44)+N(K44)+N(N44)+N(Q44))
B45: Итого | D45: =SUM(D5:D44) | E45: =SUM(E5:E44) | F45: =SUM(F5:F44) | G45: =SUM(G5:G44) | H45: =SUM(H5:H44) | I45: =SUM(I5:I44) | J45: =SUM(J5:J44) | K45: =SUM(K5:K44) | ... T45: =SUM(T5:T44)

Sheet Траты
A1: Дата | B1: Что купили | C1: Из какого сбора | D1: Сумма | E1: Чек | F1: Кто покупал / комментарий
A2: 46298 | B2: Шары и реквизит на осенний праздник | C2: Взнос на полугодие | D2: 4200 | E2: есть
A3: 46298 | B3: Сладкий стол | C3: Взнос на полугодие | D3: 3300 | E3: нет
C152: Итого потрачено | D152: =SUM(D2:D151)

Sheet Итоги
A1: Итоги — считаются сами
A3: Собрано всего | B3: ='Дети и взносы'!T45
A4: Потрачено | B4: =SUM('Траты'!D2:D151)
A5: Остаток в кассе | B5: =B3-B4
A6: Ещё не сдано (долги) | B6: ='Дети и взносы'!S45
A7: Должников (детей с долгом) | B7: =COUNTIF('Дети и взносы'!S5:S44,">0")
A8: Детей в списке | B8: =COUNTA('Дети и взносы'!B5:B44)
A9: Трат без чека | B9: =COUNTIF('Траты'!E2:E151,"нет")
A11: По сборам
A12: Сбор | B12: Начислено | C12: Сдано | D12: Долг | E12: Сдали полностью | F12: из
A13: ='Дети и взносы'!D2 | B13: ='Дети и взносы'!D45 | C13: ='Дети и взносы'!E45 | D13: ='Дети и взносы'!F45 | E13: =COUNTIFS('Дети и взносы'!D5:D44,">0",'Дети и взносы'!F5:F44,0) | F13: =COUNTIF('Дети и взносы'!D5:D44,">0")
A14: ='Дети и взносы'!G2 | B14: ='Дети и взносы'!G45 | C14: ='Дети и взносы'!H45 | D14: ='Дети и взносы'!I45 | E14: =COUNTIFS('Дети и взносы'!G5:G44,">0",'Дети и взносы'!I5:I44,0) | F14: =COUNTIF('Дети и взносы'!G5:G44,">0")
A15: ='Дети и взносы'!J2 | B15: ='Дети и взносы'!J45 | C15: ='Дети и взносы'!K45 | D15: ='Дети и взносы'!L45 | E15: =COUNTIFS('Дети и взносы'!J5:J44,">0",'Дети и взносы'!L5:L44,0) | F15: =COUNTIF('Дети и взносы'!J5:J44,">0")
A16: ='Дети и взносы'!M2 | B16: ='Дети и взносы'!M45 | C16: ='Дети и взносы'!N45 | D16: ='Дети и взносы'!O45 | E16: =COUNTIFS('Дети и взносы'!M5:M44,">0",'Дети и взносы'!O5:O44,0) | F16: =COUNTIF('Дети и взносы'!M5:M44,">0")
A17: ='Дети и взносы'!P2 | B17: ='Дети и взносы'!P45 | C17: ='Дети и взносы'!Q45 | D17: ='Дети и взносы'!R45 | E17: =COUNTIFS('Дети и взносы'!P5:P44,">0",'Дети и взносы'!R5:R44,0) | F17: =COUNTIF('Дети и взносы'!P5:P44,">0")
A19: Текст для чата: «Собрано … ₽, потрачено … ₽, в кассе … ₽. Чеки — у казначея». Фамилии должников в общий чат не пишите.

Sheet Дни рождения
A1: Кто | B1: Фамилия Имя (Отчество) | C1: Месяц (1–12) | D1: День | E1: Сумма подарка | F1: Заметка | H1: Месяц | I1: Сколько ДР | J1: Нужно на подарки
A2: ребёнок | B2: Иванова Маша | C2: 1 | D2: 19 | E2: 600 | F2: =IF(OR(C2=6,C2=7,C2=8),"летний ДР — решите, когда поздравлять","") | H2: Сентябрь | I2: =COUNTIF(C2:C51,9) | J2: =SUMIF(C2:C51,9,E2:E51)
A3: ребёнок | B3: Петров Саша | C3: 7 | D3: 12 | E3: 600 | F3: =IF(OR(C3=6,C3=7,C3=8),"летний ДР — решите, когда поздравлять","") | H3: Октябрь | I3: =COUNTIF(C2:C51,10) | J3: =SUMIF(C2:C51,10,E2:E51)
A4: воспитатель / учитель | B4: Котова Елена Павловна | C4: 11 | D4: 3 | E4: 2000 | F4: =IF(OR(C4=6,C4=7,C4=8),"летний ДР — решите, когда поздравлять","") | H4: Ноябрь | I4: =COUNTIF(C2:C51,11) | J4: =SUMIF(C2:C51,11,E2:E51)
F5: =IF(OR(C5=6,C5=7,C5=8),"летний ДР — решите, когда поздравлять","") | H5: Декабрь | I5: =COUNTIF(C2:C51,12) | J5: =SUMIF(C2:C51,12,E2:E51)
F6: =IF(OR(C6=6,C6=7,C6=8),"летний ДР — решите, когда поздравлять","") | H6: Январь | I6: =COUNTIF(C2:C51,1) | J6: =SUMIF(C2:C51,1,E2:E51)
F7: =IF(OR(C7=6,C7=7,C7=8),"летний ДР — решите, когда поздравлять","") | H7: Февраль | I7: =COUNTIF(C2:C51,2) | J7: =SUMIF(C2:C51,2,E2:E51)
F8: =IF(OR(C8=6,C8=7,C8=8),"летний ДР — решите, когда поздравлять","") | H8: Март | I8: =COUNTIF(C2:C51,3) | J8: =SUMIF(C2:C51,3,E2:E51)
F9: =IF(OR(C9=6,C9=7,C9=8),"летний ДР — решите, когда поздравлять","") | H9: Апрель | I9: =COUNTIF(C2:C51,4) | J9: =SUMIF(C2:C51,4,E2:E51)
F10: =IF(OR(C10=6,C10=7,C10=8),"летний ДР — решите, когда поздравлять","") | H10: Май | I10: =COUNTIF(C2:C51,5) | J10: =SUMIF(C2:C51,5,E2:E51)
F11: =IF(OR(C11=6,C11=7,C11=8),"летний ДР — решите, когда поздравлять","") | H11: Июнь | I11: =COUNTIF(C2:C51,6) | J11: =SUMIF(C2:C51,6,E2:E51)
F12: =IF(OR(C12=6,C12=7,C12=8),"летний ДР — решите, когда поздравлять","") | H12: Июль | I12: =COUNTIF(C2:C51,7) | J12: =SUMIF(C2:C51,7,E2:E51)
F13: =IF(OR(C13=6,C13=7,C13=8),"летний ДР — решите, когда поздравлять","") | H13: Август | I13: =COUNTIF(C2:C51,8) | J13: =SUMIF(C2:C51,8,E2:E51)
F14: =IF(OR(C14=6,C14=7,C14=8),"летний ДР — решите, когда поздравлять","") | H14: За год | I14: =SUM(I2:I13) | J14: =SUM(J2:J13)
F15: =IF(OR(C15=6,C15=7,C15=8),"летний ДР — решите, когда поздравлять","")
F16: =IF(OR(C16=6,C16=7,C16=8),"летний ДР — решите, когда поздравлять","")
F17: =IF(OR(C17=6,C17=7,C17=8),"летний ДР — решите, когда поздравлять","")
F18: =IF(OR(C18=6,C18=7,C18=8),"летний ДР — решите, когда поздравлять","")
F19: =IF(OR(C19=6,C19=7,C19=8),"летний ДР — решите, когда поздравлять","")
F20: =IF(OR(C20=6,C20=7,C20=8),"летний ДР — решите, когда поздравлять","")
F21: =IF(OR(C21=6,C21=7,C21=8),"летний ДР — решите, когда поздравлять","")
F22: =IF(OR(C22=6,C22=7,C22=8),"летний ДР — решите, когда поздравлять","")
F23: =IF(OR(C23=6,C23=7,C23=8),"летний ДР — решите, когда поздравлять","")
F24: =IF(OR(C24=6,C24=7,C24=8),"летний ДР — решите, когда поздравлять","")
F25: =IF(OR(C25=6,C25=7,C25=8),"летний ДР — решите, когда поздравлять","")
F26: =IF(OR(C26=6,C26=7,C26=8),"летний ДР — решите, когда поздравлять","")
... F51: =IF(OR(C51=6,C51=7,C51=8),"летний ДР — решите, когда поздравлять","")
